BEGIN:VCALENDAR
VERSION:2.0
PRODID:-//Singakademie Saulheim - ECPv4.9.11//NONSGML v1.0//EN
CALSCALE:GREGORIAN
METHOD:PUBLISH
X-WR-CALNAME:Singakademie Saulheim
X-ORIGINAL-URL:https://singakademie-saulheim.de
X-WR-CALDESC:Veranstaltungen im Singakademie Saulheim
BEGIN:VTIMEZONE
TZID:UTC
BEGIN:STANDARD
TZOFFSETFROM:+0000
TZOFFSETTO:+0000
TZNAME:UTC
DTSTART:20260101T000000
END:STANDARD
END:VTIMEZONE
BEGIN:VEVENT
DTSTART;TZID=UTC:20260918T180000
DTEND;TZID=UTC:20260918T210000
DTSTAMP:20260420T083217
CREATED:20260301T133957Z
LAST-MODIFIED:20260301T133957Z
UID:2168-1789754400-1789765200@singakademie-saulheim.de
SUMMARY:Popkonzert der Musikschüler*innen von Werner Schüßler
DESCRIPTION:
URL:https://singakademie-saulheim.de/event/popkonzert-der-musikschuelerinnen-von-werner-schuessler
LOCATION:Sängerhalle Saulheim
ATTACH;FMTTYPE=image/jpeg:https://singakademie-saulheim.de/wp-content/uploads/2023/11/d2a74431-5cf7-4c29-a4e4-b63e89fc0cec.jpg
END:VEVENT
END:VCALENDAR