BEGIN:VCALENDAR
VERSION:2.0
PRODID:-//Singakademie Saulheim - ECPv4.9.11//NONSGML v1.0//EN
CALSCALE:GREGORIAN
METHOD:PUBLISH
X-WR-CALNAME:Singakademie Saulheim
X-ORIGINAL-URL:https://singakademie-saulheim.de
X-WR-CALDESC:Veranstaltungen im Singakademie Saulheim
BEGIN:VTIMEZONE
TZID:UTC
BEGIN:STANDARD
TZOFFSETFROM:+0000
TZOFFSETTO:+0000
TZNAME:UTC
DTSTART:20260101T000000
END:STANDARD
END:VTIMEZONE
BEGIN:VEVENT
DTSTART;TZID=UTC:20261011T113000
DTEND;TZID=UTC:20261011T160000
DTSTAMP:20260420T123657
CREATED:20260301T134233Z
LAST-MODIFIED:20260301T134233Z
UID:2172-1791718200-1791734400@singakademie-saulheim.de
SUMMARY:Oktoberfest in der Sängerhalle
DESCRIPTION:
URL:https://singakademie-saulheim.de/event/oktoberfest-in-der-saengerhalle
LOCATION:Sängerhalle Saulheim
ATTACH;FMTTYPE=image/png:https://singakademie-saulheim.de/wp-content/uploads/2024/12/Oktoberfest-weiss-blau_grafik.png
END:VEVENT
END:VCALENDAR